BEGIN:VCALENDAR
VERSION:2.0
PRODID:-//FICPFM - ECPv6.15.20//NONSGML v1.0//EN
CALSCALE:GREGORIAN
METHOD:PUBLISH
X-WR-CALNAME:FICPFM
X-ORIGINAL-URL:https://ficpfm.org
X-WR-CALDESC:Events for FICPFM
REFRESH-INTERVAL;VALUE=DURATION:PT1H
X-Robots-Tag:noindex
X-PUBLISHED-TTL:PT1H
BEGIN:VTIMEZONE
TZID:UTC
BEGIN:STANDARD
TZOFFSETFROM:+0000
TZOFFSETTO:+0000
TZNAME:UTC
DTSTART:20230101T000000
END:STANDARD
END:VTIMEZONE
BEGIN:VEVENT
DTSTART;TZID=UTC:20240424T110000
DTEND;TZID=UTC:20240424T160000
DTSTAMP:20260423T192041
CREATED:20240418T101915Z
LAST-MODIFIED:20240418T101915Z
UID:2452-1713956400-1713974400@ficpfm.org
SUMMARY:10th Anniversary FREEHER March and Rally
DESCRIPTION:Federal and state clemency now; end the incarceration of women and girls and shift resources into communities.\nIn 2010\, as incarcerated women in the federal prison for women in Danbury\, CT\, we began organizing ourselves to highlight the additional harm that incarceration of women and girls inflicts on us\, our families\, and our communities. Upon our release\, we have continued to work to end the incarceration of women and girls and shift resources into communities. \nOn April 24\, we’re marching in Washington DC to commemorate the 10th anniversary of the FreeHer March and Rally. \nThis Mother’s Day\, 150\,000 incarcerated mothers will spend their day separated from their children unless the Biden Administration and state governors take immediate action. The National Council for Incarcerated and Formerly Incarcerated Women and Girls\, along with fellow advocates and organizations fighting to end mass incarceration\, will lead a powerful march and rally at Freedom Plaza in Washington\, D.C.\, with a clear and urgent message: “Bring Moms Home for Mother’s Day.” \nWe are calling on Federal and State officials across the country to grant clemency to incarcerated women and mothers\, highlighting the staggering reality that 80% of women in jails and 56% of women in prison are mothers to children under the age of 18. Most of these women are the primary caretakers of their families\, women of color\, and most of the mothers in jail are awaiting trial simply because they can’t afford bail. This is a women’s rights issue\, a criminal justice issue\, a racial justice issue\, and an economic justice issue. The march and rally are part of larger national initiatives titled the #FreeHer Campaign and #ClosureIsPossible\, which aim to end the incarceration of women and girls and shift resources currently spent on women’s jails and prisons to meaningful investment in communities. \nUnder the Obama Administration\, with Joe Biden as Vice President\, 1\,715 acts of clemency were issued\, signaling a strong stance on racial justice. Now\, under his direct leadership\, President Biden has granted a mere 13 acts of clemency. During his campaign\, President Biden pledged to end the mass incarceration crisis and promised to lead with a commitment to racial justice. Clemency IS racial justice\, and\, especially for women in prison\, it’s being horrifically underutilized. \nThe march and rally are on April 24\, 2024. The march starts at 11:00 a.m. at the historic Metropolitan AME church in Washington\, DC\, and we rally at Freedom Plaza from 12 to 4 p.m. During this important time in our country\, we ask that you stand with us. \nFICPFM is proud to stand with the National Council for Incarcerated and Formerly Incarcerated Women and Girls at the FreeHer March and Rally\, actively supporting the 10th anniversary of this historic event on April 24 in Washington\, D.C. We are not only in attendance but also thrilled to bring over a dozen women from our network to march and rally alongside our leaders. Together\, we continue to fight for justice\, support clemency\, and push for crucial changes in our communities.
URL:https://ficpfm.org/event/10th-anniversary-freeher-march-and-rally/
LOCATION:Metropolitan African Methodist Church\, 1518 M ST. NW\, WASHINGTON\, DC\, 20005
CATEGORIES:Network Partner (Q4D)
ATTACH;FMTTYPE=image/jpeg:https://ficpfm.org/wp-content/uploads/2024/04/AD-with-FICPFM.jpeg
END:VEVENT
END:VCALENDAR